BEGIN:VCALENDAR
VERSION:2.0
PRODID:Events Booking
BEGIN:VEVENT
UID:69ea292998063
SUMMARY:Kinder SOZO Supervision  
DESCRIPTION:Schulungsleiter: Andrea&nbsp\;von Holleuffer-KypkeDer Link wird
  bei Überweisung der Teilnahmegebühr bis 21.09.26 zeitnah vor dem Semina
 r zugesandt.Log-In: ab 19:20 UhrBitte überweisen Sie Ihre Gebühr mit Ihr
 er Anmeldung bis zum 21.09.2026 auf das unten angegebene Konto.Verwendungs
 zweck: Name Seminarteilnehmer + Kinder SOZO Supervision Okt 26
LOCATION:86497 Bayern\, Deutschland
DTSTART:20261001T173000Z
DTEND:20261001T193000Z
DTSTAMP:20231128T225813Z
ORGANIZER;CN=Bethel SOZO Deutschland:MAILTO:info@bethelsozo.de
GEO:48.395553;10.685254
X-APPLE-STRUCTURED-LOCATION;VALUE=URI;X-ADDRESS=86497 Bayern\, Deutschland;
 X-APPLE-RADIUS=72;X-TITLE=Online:48.395553;10.685254
END:VEVENT
END:VCALENDAR