BEGIN:VCALENDAR
VERSION:2.0
PRODID:Events Booking
BEGIN:VEVENT
UID:69e8ca6e5ebdf
SUMMARY:SOZO Advanced Seminar 
DESCRIPTION:Schulungsort:&nbsp\;Anskar-Kirche Wetzlar\, Philipsstr. 4\, 355
 76 WetzlarSchulungsleiterin: Sonja BrechtSeminarverantwortliche:&nbsp\;And
 rea Keller &amp\; Mira RamméVerpflegungsmöglichkeiten gibt es in der Nä
 he des Veranstaltungsortes. Getränke sind im Preis inbegriffen.Bitte übe
 rweisen Sie Ihre Gebühr bis zum 13.06.2026 auf das untenstehendeKonto.Ver
 wendungszweck:&nbsp\;Name Seminarteilnehmer + Seminarart
LOCATION:Philipsstraße\, Wetzlar\, 35576 Hessen\, Deutschland
DTSTART:20260627T073000Z
DTEND:20260627T143000Z
DTSTAMP:20231128T221927Z
ORGANIZER;CN=Bethel SOZO Deutschland:MAILTO:info@bethelsozo.de
GEO:50.56779;8.504939
X-APPLE-STRUCTURED-LOCATION;VALUE=URI;X-ADDRESS=Philipsstraße\, Wetzlar\, 
 35576 Hessen\, Deutschland;X-APPLE-RADIUS=72;X-TITLE=Anskar Kirche Wetzlar
 :50.56779;8.504939
END:VEVENT
END:VCALENDAR