BEGIN:VCALENDAR
VERSION:2.0
PRODID:Events Booking
BEGIN:VEVENT
UID:69e594e2695ea
SUMMARY:Shabar Seminar (online)
DESCRIPTION:Schulungsleiter: Teresa LiebscherÜbersetzerin: Sonja BrechtSch
 ulungsort: onlineRegistrierung: ab 15:30 UhrDer Zoom Link wird Ihnen nach 
 Überweisung der Seminargebühr rechtzeitig vor dem Seminar zugeschickt.De
 r Folgetermin für die Live-Session wird am Seminartag bekannt gegeben.Ver
 pflegung: SelbstversorgungDas Advanced + Shabar Handbuch ist nicht im Prei
 s enthalten\, bitte besorgen Sie es sich ggf. vor dem Seminar. Sie finden 
 es bei im Online Shop von edition47.Bitte überweisen Sie Ihre Gebühr bis
  zum 12.07.2026 auf das untenstehendeKonto.Verwendungszweck: Shabar + Name
  Seminarteilnehmer
LOCATION:86497 Bayern\, Deutschland
DTSTART:20260725T133000Z
DTEND:20260725T200000Z
DTSTAMP:20260217T195720Z
ORGANIZER;CN=Bethel SOZO Deutschland:MAILTO:info@bethelsozo.de
GEO:48.395553;10.685254
X-APPLE-STRUCTURED-LOCATION;VALUE=URI;X-ADDRESS=86497 Bayern\, Deutschland;
 X-APPLE-RADIUS=72;X-TITLE=Online:48.395553;10.685254
END:VEVENT
END:VCALENDAR