BEGIN:VCALENDAR
VERSION:2.0
PRODID:Events Booking
BEGIN:VEVENT
UID:69e5942d60401
SUMMARY:SOZO Basic Seminar
DESCRIPTION:Schulungsort:&nbsp\;Jesus Gemeinde Wittenberg e.V.\,&nbsp\;Pest
 alozzistraße 14\,&nbsp\;06886 Lutherstadt WittenbergSchulungsleiter: Mart
 ina und Alexander BöttcherSeminarverantwortlicher: Siegfried EykeRegistri
 erung: ab 8:30 UhrVerpflegung: Bitte versorgen Sie sich selber. Getränke 
 und Snacks sind im Preis inbegriffen.&nbsp\;&nbsp\;Bitte überweisen Sie I
 hre Gebühr bis zum 03.10.2026 auf das untenstehende Konto.Verwendungszwec
 k: Name Seminarteilnehmer + SOZO Basic-Ausbildung&nbsp\;
LOCATION:Pestalozzistraße\, Wittenberg\, 06886 Sachsen-Anhalt\, Deutschlan
 d
DTSTART:20261010T070000Z
DTEND:20261010T153000Z
DTSTAMP:20231128T232225Z
ORGANIZER;CN=Bethel SOZO Deutschland:MAILTO:info@bethelsozo.de
GEO:51.871556;12.593901
X-APPLE-STRUCTURED-LOCATION;VALUE=URI;X-ADDRESS=Pestalozzistraße\, Wittenb
 erg\, 06886 Sachsen-Anhalt\, Deutschland;X-APPLE-RADIUS=72;X-TITLE=Jesus G
 emeinde Wittenberg e.V.:51.871556;12.593901
END:VEVENT
END:VCALENDAR