BEGIN:VCALENDAR
VERSION:2.0
PRODID:Events Booking
BEGIN:VEVENT
UID:69e5935ab473a
SUMMARY:SOZO Intensiv Training (ganztags)
DESCRIPTION:Schulungsleiter: Martina und Alexander BöttcherSchulungsort: C
 hristliches Glaubenscentrum Lichtenstein\,&nbsp\;Paul-Zierold-Straße 8\,&
 nbsp\;09350 Lichtenstein /Sa.Verpflegung: Getränke und Snacks sind im Pre
 is inbegriffen. Ein Dönerimbiss und Edeka befinden sich in der Nähe.Bitt
 e überweisen Sie Ihre Gebühr bis zum 20.09.2026 auf das untenstehendeKon
 to.Verwendungszweck: SOZO-Intensivtraining 26.09.2026 + NameSie benötigen
  das BASIC &amp\; ggf. ADVANCED Handbuch\, sowie Schreibunterlagen.
LOCATION:Böttgerstraße 15\, 09350 Lichtenstein\, Sachsen
DTSTART:20260926T070000Z
DTEND:20260926T153000Z
DTSTAMP:20240222T142912Z
ORGANIZER;CN=Bethel SOZO Deutschland:MAILTO:info@bethelsozo.de
GEO:50.75994;12.621224
X-APPLE-STRUCTURED-LOCATION;VALUE=URI;X-ADDRESS=Böttgerstraße 15\, 09350 
 Lichtenstein\, Sachsen;X-APPLE-RADIUS=72;X-TITLE=Christliches Glaubenscent
 rum Lichtenstein e.V.:50.75994;12.621224
END:VEVENT
END:VCALENDAR