BEGIN:VCALENDAR
VERSION:2.0
PRODID:Events Booking
BEGIN:VEVENT
UID:69e592365f6fb
SUMMARY:SOZO Basic Seminar
DESCRIPTION:Schulungsort:&nbsp\;Vineyard Speyer\,&nbsp\;Zum Schlangenwühl 
 30\,&nbsp\;67346 SpeyerSchulungsleiter: Sonja BrechtRegistrierung: ab 9:00
  UhrVerpflegung: Bitte versorgen Sie sich selber mit Essen und Getränken!
 Bitte überweisen Sie Ihre Gebühr bis zum 22.08.2026 auf das untenstehend
 e Konto.Verwendungszweck: Name Seminarteilnehmer +&nbsp\;Seminarart
LOCATION:Zum Schlangenwühl 30\, Speyer\, 67346 Rheinland-Pfalz\, Deutschla
 nd
DTSTART:20260829T073000Z
DTEND:20260829T153000Z
DTSTAMP:20231128T232225Z
ORGANIZER;CN=Bethel SOZO Deutschland:MAILTO:info@bethelsozo.de
GEO:49.332545;8.439355
X-APPLE-STRUCTURED-LOCATION;VALUE=URI;X-ADDRESS=Zum Schlangenwühl 30\, Spe
 yer\, 67346 Rheinland-Pfalz\, Deutschland;X-APPLE-RADIUS=72;X-TITLE=Vineya
 rd Speyer:49.332545;8.439355
END:VEVENT
END:VCALENDAR