BEGIN:VCALENDAR
VERSION:2.0
PRODID:Events Booking
BEGIN:VEVENT
UID:69e8cf92b4a90
SUMMARY:SOZO Intensiv Training (ganztags)
DESCRIPTION:Schulungsleiter: Mayette und Axel SanderSchulungsort: Ecclesia 
 Gemeinde Bremen\,&nbsp\;Grosse Johannisstr. 141\,&nbsp\;28199 BremenVerpfl
 egung: Bitte bringen Sie Ihr eigenes Mittagessen mit\, Getränke und Snack
 s sind im Preis inbegriffen.Die Bezahlung geschieht in bar vor Ort\,&nbsp\
 ;bitte bringen Sie den Betrag passend mit&nbsp\;(es gibt keine Möglichkei
 t zu überweisen).Sie benötigen das BASIC &amp\; ggf. ADVANCED Handbuch\,
  sowie Schreibunterlagen.
LOCATION:Bremen\, 28199 Freie Hansestadt Bremen\, Deutschland
DTSTART:20260425T080000Z
DTEND:20260425T140000Z
DTSTAMP:20240222T142912Z
ORGANIZER;CN=Bethel SOZO Deutschland:MAILTO:info@bethelsozo.de
GEO:53.071173;8.798158
X-APPLE-STRUCTURED-LOCATION;VALUE=URI;X-ADDRESS=Bremen\, 28199 Freie Hanses
 tadt Bremen\, Deutschland;X-APPLE-RADIUS=72;X-TITLE=Ecclesia Gemeinde Brem
 en:53.071173;8.798158
END:VEVENT
END:VCALENDAR