BEGIN:VCALENDAR
VERSION:2.0
PRODID:Events Booking
BEGIN:VEVENT
UID:69e8cc0f7d742
SUMMARY:SOZO Intensiv Training (ganztags)
DESCRIPTION:Schulungsleiter: Melanie und Michael FrankSchulungsort: Treffpu
 nkt Leben Ditzingen\, Wilhelmstraße 18\, 71254 DitzingenVerpflegung: Verp
 flegungsmöglichkeiten gibt es in der Nähe des VeranstaltungsortesDie Bez
 ahlung geschieht in bar vor Ort (es gibt keine Möglichkeit zu überweisen
 ).Sie benötigen das BASIC &amp\; ggf. ADVANCED Handbuch\, sowie Schreibun
 terlagen.
LOCATION:Wilhelmstraße 18\, Ditzingen\, 71254 Baden-Württemberg\, Deutsch
 land
DTSTART:20260425T070000Z
DTEND:20260425T150000Z
DTSTAMP:20240222T142912Z
ORGANIZER;CN=Bethel SOZO Deutschland:MAILTO:info@bethelsozo.de
GEO:48.824445;9.066152
X-APPLE-STRUCTURED-LOCATION;VALUE=URI;X-ADDRESS=Wilhelmstraße 18\, Ditzing
 en\, 71254 Baden-Württemberg\, Deutschland;X-APPLE-RADIUS=72;X-TITLE=Tref
 fpunkt Leben Ditzingen:48.824445;9.066152
END:VEVENT
END:VCALENDAR